Package: tidysbml Version: 1.1.0 Command: /Library/Frameworks/R.framework/Resources/bin/R CMD check --install=check:tidysbml.install-out.txt --library=/Library/Frameworks/R.framework/Resources/library --no-vignettes --timings tidysbml_1.1.0.tar.gz StartedAt: 2025-02-19 23:45:29 -0500 (Wed, 19 Feb 2025) EndedAt: 2025-02-19 23:46:03 -0500 (Wed, 19 Feb 2025) EllapsedTime: 34.3 seconds RetCode: 0 Status: OK CheckDir: tidysbml.Rcheck Warnings: 0