Package: tidyomics Version: 1.4.0 Command: /home/biocbuild/R/R/bin/R CMD INSTALL tidyomics StartedAt: 2025-10-13 20:49:53 -0000 (Mon, 13 Oct 2025) EndedAt: 2025-10-13 20:50:45 -0000 (Mon, 13 Oct 2025) EllapsedTime: 52.2 seconds RetCode: 0 Status: OK