Package: tidyomics Version: 1.4.0 Command: /home/biocbuild/R/R/bin/R CMD build --keep-empty-dirs --no-resave-data tidyomics StartedAt: 2025-10-14 05:22:54 -0000 (Tue, 14 Oct 2025) EndedAt: 2025-10-14 05:23:48 -0000 (Tue, 14 Oct 2025) EllapsedTime: 54.0 seconds RetCode: 0 Status: OK PackageFile: tidyomics_1.4.0.tar.gz PackageFileSize: 56.03 KiB