Package: tidybulk Version: 1.20.0 Command: /home/biocbuild/R/R/bin/R CMD build --keep-empty-dirs --no-resave-data tidybulk StartedAt: 2025-10-14 05:22:27 -0000 (Tue, 14 Oct 2025) EndedAt: 2025-10-14 05:24:19 -0000 (Tue, 14 Oct 2025) EllapsedTime: 112.1 seconds RetCode: 0 Status: OK PackageFile: tidybulk_1.20.0.tar.gz PackageFileSize: 2.838 MiB