Package: tidybulk Version: 1.19.0 Command: /Library/Frameworks/R.framework/Resources/bin/R CMD INSTALL tidybulk StartedAt: 2025-02-19 15:16:33 -0500 (Wed, 19 Feb 2025) EndedAt: 2025-02-19 15:16:52 -0500 (Wed, 19 Feb 2025) EllapsedTime: 18.9 seconds RetCode: 0 Status: OK