Package: tidySummarizedExperiment Version: 1.17.0 Command: chmod a+r tidySummarizedExperiment -R && E:\biocbuild\bbs-3.21-bioc\R\bin\R.exe CMD build --keep-empty-dirs --no-resave-data tidySummarizedExperiment StartedAt: 2025-02-20 22:15:43 -0500 (Thu, 20 Feb 2025) EndedAt: 2025-02-20 22:17:36 -0500 (Thu, 20 Feb 2025) EllapsedTime: 113.1 seconds RetCode: 0 Status: OK PackageFile: tidySummarizedExperiment_1.17.0.tar.gz PackageFileSize: 330.6 KiB