Package: tidySummarizedExperiment Version: 1.17.0 Command: rm -rf tidySummarizedExperiment.buildbin-libdir && mkdir tidySummarizedExperiment.buildbin-libdir && E:\biocbuild\bbs-3.21-bioc\R\bin\R.exe CMD INSTALL --build --library=tidySummarizedExperiment.buildbin-libdir tidySummarizedExperiment_1.17.0.tar.gz StartedAt: 2025-02-21 09:15:53 -0500 (Fri, 21 Feb 2025) EndedAt: 2025-02-21 09:18:55 -0500 (Fri, 21 Feb 2025) EllapsedTime: 182.2 seconds RetCode: 0 Status: OK PackageFile: tidySummarizedExperiment_1.17.0.zip PackageFileSize: 651.8 KiB