Package: tidySummarizedExperiment Version: 1.17.0 Command: /Library/Frameworks/R.framework/Resources/bin/R CMD INSTALL tidySummarizedExperiment StartedAt: 2025-02-20 15:25:39 -0500 (Thu, 20 Feb 2025) EndedAt: 2025-02-20 15:26:15 -0500 (Thu, 20 Feb 2025) EllapsedTime: 36.7 seconds RetCode: 0 Status: OK