Package: tidySummarizedExperiment Version: 1.18.1 Command: /Library/Frameworks/R.framework/Resources/bin/R CMD build --keep-empty-dirs --no-resave-data tidySummarizedExperiment StartedAt: 2025-10-14 11:03:06 -0400 (Tue, 14 Oct 2025) EndedAt: 2025-10-14 11:04:06 -0400 (Tue, 14 Oct 2025) EllapsedTime: 59.7 seconds RetCode: 0 Status: OK PackageFile: tidySummarizedExperiment_1.18.1.tar.gz PackageFileSize: 367.5 KiB