Package: tidySummarizedExperiment Version: 1.18.1 Command: rm -rf tidySummarizedExperiment.buildbin-libdir && mkdir tidySummarizedExperiment.buildbin-libdir && /Users/biocbuild/BBS/utils/build-universal.sh tidySummarizedExperiment_1.18.1.tar.gz /Library/Frameworks/R.framework/Resources/bin/R tidySummarizedExperiment.buildbin-libdir StartedAt: 2025-10-15 20:51:01 -0400 (Wed, 15 Oct 2025) EndedAt: 2025-10-15 20:51:38 -0400 (Wed, 15 Oct 2025) EllapsedTime: 37.4 seconds RetCode: 0 Status: OK PackageFile: tidySummarizedExperiment_1.18.1.tgz PackageFileSize: 684.5 KiB