Package: tidySpatialExperiment Version: 1.3.0 Command: /home/biocbuild/bbs-3.21-bioc/R/bin/R CMD INSTALL tidySpatialExperiment StartedAt: 2025-02-18 15:19:55 -0500 (Tue, 18 Feb 2025) EndedAt: 2025-02-18 15:20:23 -0500 (Tue, 18 Feb 2025) EllapsedTime: 27.6 seconds RetCode: 0 Status: OK