Package: tidySpatialExperiment Version: 1.4.1 Command: /Library/Frameworks/R.framework/Resources/bin/R CMD INSTALL tidySpatialExperiment StartedAt: 2025-10-13 15:41:00 -0400 (Mon, 13 Oct 2025) EndedAt: 2025-10-13 15:42:03 -0400 (Mon, 13 Oct 2025) EllapsedTime: 63.9 seconds RetCode: 0 Status: OK