Package: tidySpatialExperiment Version: 1.4.1 Command: /Library/Frameworks/R.framework/Resources/bin/R CMD build --keep-empty-dirs --no-resave-data tidySpatialExperiment StartedAt: 2025-10-13 23:15:18 -0400 (Mon, 13 Oct 2025) EndedAt: 2025-10-13 23:17:24 -0400 (Mon, 13 Oct 2025) EllapsedTime: 125.6 seconds RetCode: 0 Status: OK PackageFile: tidySpatialExperiment_1.4.1.tar.gz PackageFileSize: 4.269 MiB