Package: tidySpatialExperiment Version: 1.4.1 Command: rm -rf tidySpatialExperiment.buildbin-libdir && mkdir tidySpatialExperiment.buildbin-libdir && /Users/biocbuild/BBS/utils/build-universal.sh tidySpatialExperiment_1.4.1.tar.gz /Library/Frameworks/R.framework/Resources/bin/R tidySpatialExperiment.buildbin-libdir StartedAt: 2025-10-14 14:57:55 -0400 (Tue, 14 Oct 2025) EndedAt: 2025-10-14 14:59:11 -0400 (Tue, 14 Oct 2025) EllapsedTime: 75.6 seconds RetCode: 0 Status: OK PackageFile: tidySpatialExperiment_1.4.1.tgz PackageFileSize: 2.826 MiB