Package: tidySpatialExperiment Version: 1.3.0 Command: /Library/Frameworks/R.framework/Resources/bin/R CMD INSTALL tidySpatialExperiment StartedAt: 2025-02-18 15:26:14 -0500 (Tue, 18 Feb 2025) EndedAt: 2025-02-18 15:26:53 -0500 (Tue, 18 Feb 2025) EllapsedTime: 39.0 seconds RetCode: 0 Status: OK