Package: tidySpatialExperiment Version: 1.3.0 Command: /Library/Frameworks/R.framework/Resources/bin/R CMD INSTALL tidySpatialExperiment StartedAt: 2025-02-18 15:16:36 -0500 (Tue, 18 Feb 2025) EndedAt: 2025-02-18 15:16:48 -0500 (Tue, 18 Feb 2025) EllapsedTime: 11.8 seconds RetCode: 0 Status: OK