Package: tidySpatialExperiment Version: 1.3.0 Command: /Library/Frameworks/R.framework/Resources/bin/R CMD check --install=check:tidySpatialExperiment.install-out.txt --library=/Library/Frameworks/R.framework/Resources/library --no-vignettes --timings tidySpatialExperiment_1.3.0.tar.gz StartedAt: 2025-02-18 21:51:57 -0500 (Tue, 18 Feb 2025) EndedAt: 2025-02-18 21:53:31 -0500 (Tue, 18 Feb 2025) EllapsedTime: 94.1 seconds RetCode: 0 Status: OK CheckDir: tidySpatialExperiment.Rcheck Warnings: 0