Package: tidySpatialExperiment Version: 1.4.1 Command: /Library/Frameworks/R.framework/Resources/bin/R CMD INSTALL tidySpatialExperiment StartedAt: 2025-10-02 16:27:49 -0400 (Thu, 02 Oct 2025) EndedAt: 2025-10-02 16:28:24 -0400 (Thu, 02 Oct 2025) EllapsedTime: 35.2 seconds RetCode: 0 Status: OK