Package: tidySpatialExperiment Version: 1.4.1 Command: /Library/Frameworks/R.framework/Resources/bin/R CMD build --keep-empty-dirs --no-resave-data tidySpatialExperiment StartedAt: 2025-10-03 10:55:36 -0400 (Fri, 03 Oct 2025) EndedAt: 2025-10-03 10:56:49 -0400 (Fri, 03 Oct 2025) EllapsedTime: 73.2 seconds RetCode: 0 Status: OK PackageFile: tidySpatialExperiment_1.4.1.tar.gz PackageFileSize: 4.269 MiB