Package: tidySpatialExperiment Version: 1.4.1 Command: rm -rf tidySpatialExperiment.buildbin-libdir && mkdir tidySpatialExperiment.buildbin-libdir && /Users/biocbuild/BBS/utils/build-universal.sh tidySpatialExperiment_1.4.1.tar.gz /Library/Frameworks/R.framework/Resources/bin/R tidySpatialExperiment.buildbin-libdir StartedAt: 2025-10-04 20:19:37 -0400 (Sat, 04 Oct 2025) EndedAt: 2025-10-04 20:20:17 -0400 (Sat, 04 Oct 2025) EllapsedTime: 40.3 seconds RetCode: 0 Status: OK PackageFile: tidySpatialExperiment_1.4.1.tgz PackageFileSize: 2.826 MiB