Package: tidySingleCellExperiment Version: 1.17.0 Command: E:\biocbuild\bbs-3.21-bioc\R\bin\R.exe CMD INSTALL tidySingleCellExperiment StartedAt: 2025-02-20 16:13:36 -0500 (Thu, 20 Feb 2025) EndedAt: 2025-02-20 16:15:08 -0500 (Thu, 20 Feb 2025) EllapsedTime: 92.4 seconds RetCode: 0 Status: OK