Package: tidySingleCellExperiment Version: 1.17.0 Command: E:\biocbuild\bbs-3.21-bioc\R\bin\R.exe CMD check --no-multiarch --install=check:tidySingleCellExperiment.install-out.txt --library=E:\biocbuild\bbs-3.21-bioc\R\library --no-vignettes --timings tidySingleCellExperiment_1.17.0.tar.gz StartedAt: 2025-02-21 06:31:02 -0500 (Fri, 21 Feb 2025) EndedAt: 2025-02-21 06:35:36 -0500 (Fri, 21 Feb 2025) EllapsedTime: 273.8 seconds RetCode: 0 Status: OK CheckDir: tidySingleCellExperiment.Rcheck Warnings: 0