Package: tidySingleCellExperiment Version: 1.17.0 Command: chmod a+r tidySingleCellExperiment -R && E:\biocbuild\bbs-3.21-bioc\R\bin\R.exe CMD build --keep-empty-dirs --no-resave-data tidySingleCellExperiment StartedAt: 2025-02-20 22:15:02 -0500 (Thu, 20 Feb 2025) EndedAt: 2025-02-20 22:17:23 -0500 (Thu, 20 Feb 2025) EllapsedTime: 141.0 seconds RetCode: 0 Status: OK PackageFile: tidySingleCellExperiment_1.17.0.tar.gz PackageFileSize: 1.241 MiB