Package: tidySingleCellExperiment Version: 1.17.0 Command: rm -rf tidySingleCellExperiment.buildbin-libdir && mkdir tidySingleCellExperiment.buildbin-libdir && E:\biocbuild\bbs-3.21-bioc\R\bin\R.exe CMD INSTALL --build --library=tidySingleCellExperiment.buildbin-libdir tidySingleCellExperiment_1.17.0.tar.gz StartedAt: 2025-02-21 09:15:49 -0500 (Fri, 21 Feb 2025) EndedAt: 2025-02-21 09:19:04 -0500 (Fri, 21 Feb 2025) EllapsedTime: 194.5 seconds RetCode: 0 Status: OK PackageFile: tidySingleCellExperiment_1.17.0.zip PackageFileSize: 1.56 MiB