Package: tidySingleCellExperiment Version: 1.17.0 Command: /Library/Frameworks/R.framework/Resources/bin/R CMD build --keep-empty-dirs --no-resave-data tidySingleCellExperiment StartedAt: 2025-02-20 17:47:56 -0500 (Thu, 20 Feb 2025) EndedAt: 2025-02-20 17:48:27 -0500 (Thu, 20 Feb 2025) EllapsedTime: 31.4 seconds RetCode: 0 Status: OK PackageFile: tidySingleCellExperiment_1.17.0.tar.gz PackageFileSize: 1.811 MiB