Package: tidyFlowCore Version: 1.1.0 Command: /home/biocbuild/bbs-3.21-bioc/R/bin/R CMD INSTALL tidyFlowCore StartedAt: 2025-02-19 15:13:46 -0500 (Wed, 19 Feb 2025) EndedAt: 2025-02-19 15:13:56 -0500 (Wed, 19 Feb 2025) EllapsedTime: 9.5 seconds RetCode: 0 Status: OK