Package: tidyFlowCore Version: 1.1.0 Command: /home/biocbuild/bbs-3.21-bioc/R/bin/R CMD build --keep-empty-dirs --no-resave-data tidyFlowCore StartedAt: 2025-02-19 19:32:11 -0500 (Wed, 19 Feb 2025) EndedAt: 2025-02-19 19:33:05 -0500 (Wed, 19 Feb 2025) EllapsedTime: 54.0 seconds RetCode: 0 Status: OK PackageFile: tidyFlowCore_1.1.0.tar.gz PackageFileSize: 783.8 KiB