Package: tidyCoverage Version: 1.3.0 Command: /Library/Frameworks/R.framework/Resources/bin/R CMD check --install=check:tidyCoverage.install-out.txt --library=/Library/Frameworks/R.framework/Resources/library --no-vignettes --timings tidyCoverage_1.3.0.tar.gz StartedAt: 2025-02-18 21:51:20 -0500 (Tue, 18 Feb 2025) EndedAt: 2025-02-18 21:53:24 -0500 (Tue, 18 Feb 2025) EllapsedTime: 123.5 seconds RetCode: 0 Status: OK CheckDir: tidyCoverage.Rcheck Warnings: 0