Package: terraTCGAdata Version: 1.11.0 Command: rm -rf terraTCGAdata.buildbin-libdir && mkdir terraTCGAdata.buildbin-libdir && /Users/biocbuild/BBS/utils/build-universal.sh terraTCGAdata_1.11.0.tar.gz /Library/Frameworks/R.framework/Resources/bin/R terraTCGAdata.buildbin-libdir StartedAt: 2025-02-20 00:58:28 -0500 (Thu, 20 Feb 2025) EndedAt: 2025-02-20 00:59:05 -0500 (Thu, 20 Feb 2025) EllapsedTime: 37.2 seconds RetCode: 0 Status: OK PackageFile: terraTCGAdata_1.11.0.tgz PackageFileSize: 272.9 KiB