Package: ternarynet Version: 1.51.0 Command: /home/biocbuild/bbs-3.21-bioc/R/bin/R CMD INSTALL ternarynet StartedAt: 2025-02-20 15:08:31 -0500 (Thu, 20 Feb 2025) EndedAt: 2025-02-20 15:08:38 -0500 (Thu, 20 Feb 2025) EllapsedTime: 7.7 seconds RetCode: 0 Status: OK