Package: ternarynet Version: 1.51.0 Command: /Library/Frameworks/R.framework/Resources/bin/R CMD INSTALL ternarynet StartedAt: 2025-02-20 15:13:08 -0500 (Thu, 20 Feb 2025) EndedAt: 2025-02-20 15:13:13 -0500 (Thu, 20 Feb 2025) EllapsedTime: 4.4 seconds RetCode: 1 Status: ERROR