Package: tenXplore Version: 1.29.0 Command: E:\biocbuild\bbs-3.21-bioc\R\bin\R.exe CMD INSTALL tenXplore StartedAt: 2025-02-20 16:11:44 -0500 (Thu, 20 Feb 2025) EndedAt: 2025-02-20 16:12:17 -0500 (Thu, 20 Feb 2025) EllapsedTime: 33.2 seconds RetCode: 0 Status: OK