Package: tenXplore Version: 1.29.0 Command: /home/biocbuild/bbs-3.21-bioc/R/bin/R CMD INSTALL tenXplore StartedAt: 2025-02-20 15:46:38 -0500 (Thu, 20 Feb 2025) EndedAt: 2025-02-20 15:46:40 -0500 (Thu, 20 Feb 2025) EllapsedTime: 1.1 seconds RetCode: 1 Status: ERROR