Package: tenXplore Version: 1.29.0 Command: /home/biocbuild/bbs-3.21-bioc/R/bin/R CMD build --keep-empty-dirs --no-resave-data tenXplore StartedAt: 2025-02-20 19:33:58 -0500 (Thu, 20 Feb 2025) EndedAt: 2025-02-20 19:33:59 -0500 (Thu, 20 Feb 2025) EllapsedTime: 1.0 seconds RetCode: 1 Status: ERROR PackageFile: None PackageFileSize: NA