Package: tenXplore Version: 1.29.0 Command: /Library/Frameworks/R.framework/Resources/bin/R CMD build --keep-empty-dirs --no-resave-data tenXplore StartedAt: 2025-02-20 18:29:49 -0500 (Thu, 20 Feb 2025) EndedAt: 2025-02-20 18:30:38 -0500 (Thu, 20 Feb 2025) EllapsedTime: 49.1 seconds RetCode: 0 Status: OK PackageFile: tenXplore_1.29.0.tar.gz PackageFileSize: 2.433 MiB