Package: tenXplore Version: 1.29.0 Command: /Library/Frameworks/R.framework/Resources/bin/R CMD INSTALL tenXplore StartedAt: 2025-02-20 15:17:00 -0500 (Thu, 20 Feb 2025) EndedAt: 2025-02-20 15:17:13 -0500 (Thu, 20 Feb 2025) EllapsedTime: 13.5 seconds RetCode: 0 Status: OK