Package: tenXplore Version: 1.29.0 Command: /Library/Frameworks/R.framework/Resources/bin/R CMD check --install=check:tenXplore.install-out.txt --library=/Library/Frameworks/R.framework/Resources/library --no-vignettes --timings tenXplore_1.29.0.tar.gz StartedAt: 2025-02-20 21:47:04 -0500 (Thu, 20 Feb 2025) EndedAt: 2025-02-20 21:48:37 -0500 (Thu, 20 Feb 2025) EllapsedTime: 93.2 seconds RetCode: 0 Status: OK CheckDir: tenXplore.Rcheck Warnings: 0