Package: tenXplore Version: 1.29.0 Command: rm -rf tenXplore.buildbin-libdir && mkdir tenXplore.buildbin-libdir && /Users/biocbuild/BBS/utils/build-universal.sh tenXplore_1.29.0.tar.gz /Library/Frameworks/R.framework/Resources/bin/R tenXplore.buildbin-libdir StartedAt: 2025-02-20 22:37:50 -0500 (Thu, 20 Feb 2025) EndedAt: 2025-02-20 22:38:04 -0500 (Thu, 20 Feb 2025) EllapsedTime: 14.3 seconds RetCode: 0 Status: OK PackageFile: tenXplore_1.29.0.tgz PackageFileSize: 2.181 MiB