Package: tanggle Version: 1.13.0 Command: chmod a+r tanggle -R && E:\biocbuild\bbs-3.21-bioc\R\bin\R.exe CMD build --keep-empty-dirs --no-resave-data tanggle StartedAt: 2025-02-20 22:11:11 -0500 (Thu, 20 Feb 2025) EndedAt: 2025-02-20 22:11:49 -0500 (Thu, 20 Feb 2025) EllapsedTime: 37.6 seconds RetCode: 0 Status: OK PackageFile: tanggle_1.13.0.tar.gz PackageFileSize: 1.157 MiB