Package: tanggle Version: 1.13.0 Command: /home/biocbuild/bbs-3.21-bioc/R/bin/R CMD build --keep-empty-dirs --no-resave-data tanggle StartedAt: 2025-02-20 19:32:36 -0500 (Thu, 20 Feb 2025) EndedAt: 2025-02-20 19:32:55 -0500 (Thu, 20 Feb 2025) EllapsedTime: 19.0 seconds RetCode: 0 Status: OK PackageFile: tanggle_1.13.0.tar.gz PackageFileSize: 2.058 MiB