Package: tanggle Version: 1.13.0 Command: /Library/Frameworks/R.framework/Resources/bin/R CMD check --install=check:tanggle.install-out.txt --library=/Library/Frameworks/R.framework/Resources/library --no-vignettes --timings tanggle_1.13.0.tar.gz StartedAt: 2025-02-20 21:45:50 -0500 (Thu, 20 Feb 2025) EndedAt: 2025-02-20 21:46:10 -0500 (Thu, 20 Feb 2025) EllapsedTime: 19.3 seconds RetCode: 0 Status: OK CheckDir: tanggle.Rcheck Warnings: 0