Package: tanggle Version: 1.13.0 Command: rm -rf tanggle.buildbin-libdir && mkdir tanggle.buildbin-libdir && /Users/biocbuild/BBS/utils/build-universal.sh tanggle_1.13.0.tar.gz /Library/Frameworks/R.framework/Resources/bin/R tanggle.buildbin-libdir StartedAt: 2025-02-20 22:37:40 -0500 (Thu, 20 Feb 2025) EndedAt: 2025-02-20 22:37:44 -0500 (Thu, 20 Feb 2025) EllapsedTime: 4.0 seconds RetCode: 0 Status: OK PackageFile: tanggle_1.13.0.tgz PackageFileSize: 1.913 MiB