Package: tadar Version: 1.5.1 Command: E:\biocbuild\bbs-3.21-bioc\R\bin\R.exe CMD INSTALL tadar StartedAt: 2025-02-20 16:37:25 -0500 (Thu, 20 Feb 2025) EndedAt: 2025-02-20 16:38:27 -0500 (Thu, 20 Feb 2025) EllapsedTime: 62.6 seconds RetCode: 0 Status: OK