Package: tadar Version: 1.5.1 Command: /home/biocbuild/bbs-3.21-bioc/R/bin/R CMD check --install=check:tadar.install-out.txt --library=/home/biocbuild/bbs-3.21-bioc/R/site-library --timings tadar_1.5.1.tar.gz StartedAt: 2025-02-21 02:28:14 -0500 (Fri, 21 Feb 2025) EndedAt: 2025-02-21 02:36:20 -0500 (Fri, 21 Feb 2025) EllapsedTime: 485.8 seconds RetCode: 0 Status: OK CheckDir: tadar.Rcheck Warnings: 0