Package: tadar Version: 1.5.1 Command: /home/biocbuild/bbs-3.21-bioc/R/bin/R CMD build --keep-empty-dirs --no-resave-data tadar StartedAt: 2025-02-20 19:32:34 -0500 (Thu, 20 Feb 2025) EndedAt: 2025-02-20 19:33:58 -0500 (Thu, 20 Feb 2025) EllapsedTime: 84.2 seconds RetCode: 0 Status: OK PackageFile: tadar_1.5.1.tar.gz PackageFileSize: 1.687 MiB