Package: tRanslatome Version: 1.45.0 Command: chmod a+r tRanslatome -R && E:\biocbuild\bbs-3.21-bioc\R\bin\R.exe CMD build --keep-empty-dirs --no-resave-data tRanslatome StartedAt: 2025-02-20 22:19:16 -0500 (Thu, 20 Feb 2025) EndedAt: 2025-02-20 22:21:53 -0500 (Thu, 20 Feb 2025) EllapsedTime: 156.3 seconds RetCode: 0 Status: OK PackageFile: tRanslatome_1.45.0.tar.gz PackageFileSize: 813.1 KiB