Package: tRanslatome Version: 1.45.0 Command: rm -rf tRanslatome.buildbin-libdir && mkdir tRanslatome.buildbin-libdir && E:\biocbuild\bbs-3.21-bioc\R\bin\R.exe CMD INSTALL --build --library=tRanslatome.buildbin-libdir tRanslatome_1.45.0.tar.gz StartedAt: 2025-02-21 09:18:04 -0500 (Fri, 21 Feb 2025) EndedAt: 2025-02-21 09:19:23 -0500 (Fri, 21 Feb 2025) EllapsedTime: 78.4 seconds RetCode: 0 Status: OK PackageFile: tRanslatome_1.45.0.zip PackageFileSize: 1.197 MiB