Package: tRanslatome Version: 1.45.0 Command: /Library/Frameworks/R.framework/Resources/bin/R CMD check --install=check:tRanslatome.install-out.txt --library=/Library/Frameworks/R.framework/Resources/library --no-vignettes --timings tRanslatome_1.45.0.tar.gz StartedAt: 2025-02-20 23:49:36 -0500 (Thu, 20 Feb 2025) EndedAt: 2025-02-20 23:55:10 -0500 (Thu, 20 Feb 2025) EllapsedTime: 334.5 seconds RetCode: 0 Status: OK CheckDir: tRanslatome.Rcheck Warnings: 0