Package: tRanslatome Version: 1.45.0 Command: /Library/Frameworks/R.framework/Resources/bin/R CMD INSTALL tRanslatome StartedAt: 2025-02-20 15:22:29 -0500 (Thu, 20 Feb 2025) EndedAt: 2025-02-20 15:22:45 -0500 (Thu, 20 Feb 2025) EllapsedTime: 16.0 seconds RetCode: 0 Status: OK