Package: tRanslatome Version: 1.45.0 Command: /Library/Frameworks/R.framework/Resources/bin/R CMD build --keep-empty-dirs --no-resave-data tRanslatome StartedAt: 2025-02-20 17:49:30 -0500 (Thu, 20 Feb 2025) EndedAt: 2025-02-20 17:50:05 -0500 (Thu, 20 Feb 2025) EllapsedTime: 35.4 seconds RetCode: 0 Status: OK PackageFile: tRanslatome_1.45.0.tar.gz PackageFileSize: 936 KiB